BEGIN:VCALENDAR
VERSION:2.0
PRODID:-//Movment Intelligence - ECPv5.16.4//NONSGML v1.0//EN
CALSCALE:GREGORIAN
METHOD:PUBLISH
X-WR-CALNAME:Movment Intelligence
X-ORIGINAL-URL:https://movementintelligence.com
X-WR-CALDESC:Events for Movment Intelligence
REFRESH-INTERVAL;VALUE=DURATION:PT1H
X-Robots-Tag:noindex
X-PUBLISHED-TTL:PT1H
BEGIN:VTIMEZONE
TZID:Asia/Jerusalem
BEGIN:DAYLIGHT
TZOFFSETFROM:+0200
TZOFFSETTO:+0300
TZNAME:IDT
DTSTART:20220325T000000
END:DAYLIGHT
BEGIN:STANDARD
TZOFFSETFROM:+0300
TZOFFSETTO:+0200
TZNAME:IST
DTSTART:20221029T230000
END:STANDARD
BEGIN:DAYLIGHT
TZOFFSETFROM:+0200
TZOFFSETTO:+0300
TZNAME:IDT
DTSTART:20230324T000000
END:DAYLIGHT
BEGIN:STANDARD
TZOFFSETFROM:+0300
TZOFFSETTO:+0200
TZNAME:IST
DTSTART:20231028T230000
END:STANDARD
BEGIN:DAYLIGHT
TZOFFSETFROM:+0200
TZOFFSETTO:+0300
TZNAME:IDT
DTSTART:20240329T000000
END:DAYLIGHT
BEGIN:STANDARD
TZOFFSETFROM:+0300
TZOFFSETTO:+0200
TZNAME:IST
DTSTART:20241026T230000
END:STANDARD
BEGIN:DAYLIGHT
TZOFFSETFROM:+0200
TZOFFSETTO:+0300
TZNAME:IDT
DTSTART:20250328T000000
END:DAYLIGHT
BEGIN:STANDARD
TZOFFSETFROM:+0300
TZOFFSETTO:+0200
TZNAME:IST
DTSTART:20251025T230000
END:STANDARD
END:VTIMEZONE
BEGIN:VEVENT
DTSTART;TZID=Asia/Jerusalem:20250307T083000
DTEND;TZID=Asia/Jerusalem:20250307T140000
DTSTAMP:20260425T140445
CREATED:20250214T160939Z
LAST-MODIFIED:20250214T162949Z
UID:3428-1741336200-1741356000@movementintelligence.com
SUMMARY:על קרקע בטוחה - רצפת האגן
DESCRIPTION:שיטת “אינטליגנציה תנועתית” פותחה ע”י ד”ר רותי אלון. שהיתה אחת מתלמידותיו של ד”ר משה פלדנקרייז. אחת מתוכניותיה היא בנושא רצפת האגן. רותי הקדישה את חייה לפיתוח גישה חדשנית ליציבה\, להתמודדות כנגד כוח הכבידה לתפקוד יעיל בחיי היום יום. מורשתה ממשיכה לחיות ולהשפיע על אנשים ברחבי העולם \nהסדנה הקרובה\, “על קרקע בטוחה – רצפת האגן”\, תתמקד בקשר שבין יציבה\, שיווי משקל ודפוסי תנועה לבין חוסנה של רצפת האגן. זהו מפגש מעשי עם כלים יישומיים להעמקת ההבנה הגופנית ושיפור הבריאות בחיי היום יום \n!מספר המקומות מוגבל\nהרשמה מוקדמת עד 28.2.25\n✅ לחברי העמותה – 200 ש”ח\n✅ לקהל הרחב – 250 ש”ח\n:להרשמה\nhttps://forms.gle/Mdm1xuxFogNC1D7X9 \n.יחד נמשיך את מורשתה של רותי אלון
URL:https://movementintelligence.com/event/%d7%a2%d7%9c-%d7%a7%d7%a8%d7%a7%d7%a2-%d7%91%d7%98%d7%95%d7%97%d7%94-%d7%a8%d7%a6%d7%a4%d7%aa-%d7%94%d7%90%d7%92%d7%9f/
LOCATION:קיבוץ צובא\, Israel
END:VEVENT
BEGIN:VEVENT
DTSTART;TZID=Asia/Jerusalem:20230210T100000
DTEND;TZID=Asia/Jerusalem:20230210T133000
DTSTAMP:20260425T140445
CREATED:20230121T050336Z
LAST-MODIFIED:20230507T085440Z
UID:2983-1676023200-1676035800@movementintelligence.com
SUMMARY:מפגש לזכרה של רותי אלון
DESCRIPTION:
URL:https://movementintelligence.com/event/%d7%9e%d7%a4%d7%92%d7%a9-%d7%9c%d7%96%d7%9b%d7%a8%d7%94-%d7%a9%d7%9c-%d7%a8%d7%95%d7%aa%d7%99-%d7%90%d7%9c%d7%95%d7%9f/
LOCATION:סמינר הקיבוצים
ATTACH;FMTTYPE=image/jpeg:https://movementintelligence.com/wp-content/uploads/2023/01/WhatsApp-Image-2023-01-20-at-8.55.46-AM.jpeg
END:VEVENT
BEGIN:VEVENT
DTSTART;TZID=Asia/Jerusalem:20230201T170000
DTEND;TZID=Asia/Jerusalem:20230201T180000
DTSTAMP:20260425T140445
CREATED:20230121T041221Z
LAST-MODIFIED:20230121T051039Z
UID:2980-1675270800-1675274400@movementintelligence.com
SUMMARY:מפגש היכרות עם אתר אינטלגנציה תנועתית
DESCRIPTION:
URL:https://movementintelligence.com/event/%d7%9e%d7%a4%d7%92%d7%a9-%d7%94%d7%99%d7%9b%d7%a8%d7%95%d7%aa-%d7%a2%d7%9d-%d7%90%d7%aa%d7%a8-%d7%90%d7%99%d7%a0%d7%98%d7%9c%d7%92%d7%a0%d7%a6%d7%99%d7%94-%d7%aa%d7%a0%d7%95%d7%a2%d7%aa%d7%99%d7%aa/
ATTACH;FMTTYPE=image/jpeg:https://movementintelligence.com/wp-content/uploads/2023/01/הזמנה-למפגש-לימודי.jpeg
END:VEVENT
BEGIN:VEVENT
DTSTART;VALUE=DATE:20221021
DTEND;VALUE=DATE:20221022
DTSTAMP:20260425T140445
CREATED:20221009T083814Z
LAST-MODIFIED:20221009T084624Z
UID:2748-1666310400-1666396799@movementintelligence.com
SUMMARY:"ברכת רותי אלון"
DESCRIPTION:“שמחים להודיע על\, סדרת השתלמויות\, מתוך החומרים של רותי אלון והראשונה בסדרה : “ברכת רותי אלון\nהמפגש יתקיים בתאריך 21/10/22\nבקיבוץ צובה.\nכל הפרטים בפוסט.\n:   להתראות אחרי החגים. גמר חתימה טובה. לינק להרשמה  \nhttps://docs.google.com/forms/d/e/1FAIpQLSdE2bj6Kk9UZ0nVXF1VLUJkI-ns9gA6NXOJghIFLfUbtC4i9g/viewform \n 
URL:https://movementintelligence.com/event/2748/
LOCATION:קיבוץ צובא\, Israel
END:VEVENT
BEGIN:VEVENT
DTSTART;TZID=Asia/Jerusalem:20220928T080000
DTEND;TZID=Asia/Jerusalem:20220928T170000
DTSTAMP:20260425T140445
CREATED:20220811T083940Z
LAST-MODIFIED:20220811T084606Z
UID:2443-1664352000-1664384400@movementintelligence.com
SUMMARY:Example event
DESCRIPTION:Event description
URL:https://movementintelligence.com/event/example-event/
ATTACH;FMTTYPE=image/webp:https://movementintelligence.com/wp-content/uploads/2022/05/Solutions-II-Posture-2.webp
END:VEVENT
END:VCALENDAR